BEGIN:VCALENDAR
VERSION:2.0
PRODID:-//RI Energy Efficiency &amp; Resource Management Council - ECPv4.9.11//NONSGML v1.0//EN
CALSCALE:GREGORIAN
METHOD:PUBLISH
X-WR-CALNAME:RI Energy Efficiency &amp; Resource Management Council
X-ORIGINAL-URL:https://rieermc.ri.gov
X-WR-CALDESC:Events for RI Energy Efficiency &amp; Resource Management Council
BEGIN:VTIMEZONE
TZID:America/New_York
BEGIN:DAYLIGHT
TZOFFSETFROM:-0500
TZOFFSETTO:-0400
TZNAME:EDT
DTSTART:20180311T070000
END:DAYLIGHT
BEGIN:STANDARD
TZOFFSETFROM:-0400
TZOFFSETTO:-0500
TZNAME:EST
DTSTART:20181104T060000
END:STANDARD
END:VTIMEZONE
BEGIN:VEVENT
DTSTART;TZID=America/New_York:20180621T153000
DTEND;TZID=America/New_York:20180621T173000
DTSTAMP:20210604T114927
CREATED:20171219T024723Z
LAST-MODIFIED:20180621T160436Z
UID:751-1529595000-1529602200@rieermc.ri.gov
SUMMARY:EERMC Meeting - June 2018
DESCRIPTION:[vc_row][vc_column][vc_column_text css=”.vc_custom_1524149215494{margin-bottom: 0px !important;}”]The EERMC will convene for its monthly meeting on Thursday June 21\, 2018 from 3:30 – 5:30 PM. The meeting will be held in Conference Room A on the 2nd Floor of the Department of Administration\, located at One Capitol Hill\, Providence\, RI 02908. All members of the public are welcome to attend the Council meeting. If you’d like to submit public comment to the Council\, you can do so at the meeting or through our Public Comment Page.[/vc_column_text][/vc_column][/vc_row][vc_row][vc_column][vc_column_text]\nDocuments\n[/vc_column_text][vc_column_text css=”.vc_custom_1529597032425{margin-bottom: 0px !important;}”]\n\nMeeting Agenda\nEERMC Meeting Minutes – May 17th\, 2018 – DRAFT\nNational Grid 2017 Year End Report\nNational Grid 2017 Year End Presentation \nNational Grid 2018 First Quarter Report \nNational Grid 2018 First Quarter Presentation\nC-Team Presentation – 2017 Energy Efficiency Programs and 1’st Quarter 2018 Results\nRIBA – 2018 Energy Expo Presentation \nSurvey Results – 2018 Energy Expo\nEERMC Response to the PUC – First Set of Data Requests\n\n[/vc_column_text][/vc_column][/vc_row]\n
URL:https://rieermc.ri.gov/meeting/eermc-meeting-june-2018/
CATEGORIES:EERMC Meeting
END:VEVENT
END:VCALENDAR