BEGIN:VCALENDAR
VERSION:2.0
PRODID:-//RI Energy Efficiency &amp; Resource Management Council - ECPv4.9.11//NONSGML v1.0//EN
CALSCALE:GREGORIAN
METHOD:PUBLISH
X-WR-CALNAME:RI Energy Efficiency &amp; Resource Management Council
X-ORIGINAL-URL:https://rieermc.ri.gov
X-WR-CALDESC:Events for RI Energy Efficiency &amp; Resource Management Council
BEGIN:VTIMEZONE
TZID:America/Halifax
BEGIN:DAYLIGHT
TZOFFSETFROM:-0400
TZOFFSETTO:-0300
TZNAME:ADT
DTSTART:20170312T060000
END:DAYLIGHT
BEGIN:STANDARD
TZOFFSETFROM:-0300
TZOFFSETTO:-0400
TZNAME:AST
DTSTART:20171105T050000
END:STANDARD
END:VTIMEZONE
BEGIN:VEVENT
DTSTART;TZID=America/Halifax:20170817T153000
DTEND;TZID=America/Halifax:20170817T173000
DTSTAMP:20210523T033551
CREATED:20170822T010019Z
LAST-MODIFIED:20170822T010019Z
UID:336-1502983800-1502991000@rieermc.ri.gov
SUMMARY:EERMC Meeting
DESCRIPTION:[vc_row][vc_column][vc_column_text]Enter description here or delete[/vc_column_text][/vc_column][/vc_row][vc_row][vc_column][vc_column_text]\nDocuments\n[/vc_column_text][/vc_column][/vc_row]\n
URL:https://rieermc.ri.gov/meeting/eermc-meeting/
LOCATION:Conference Room A\, 2nd Floor\, Department of Administration\, One Capitol Hill\, Providence\, RI\, 02908\, United States
CATEGORIES:EERMC Meeting
END:VEVENT
END:VCALENDAR