BEGIN:VCALENDAR
VERSION:2.0
PRODID:-//RI Energy Efficiency &amp; Resource Management Council - ECPv4.9.11//NONSGML v1.0//EN
CALSCALE:GREGORIAN
METHOD:PUBLISH
X-WR-CALNAME:RI Energy Efficiency &amp; Resource Management Council
X-ORIGINAL-URL:https://rieermc.ri.gov
X-WR-CALDESC:Events for RI Energy Efficiency &amp; Resource Management Council
BEGIN:VTIMEZONE
TZID:America/New_York
BEGIN:DAYLIGHT
TZOFFSETFROM:-0500
TZOFFSETTO:-0400
TZNAME:EDT
DTSTART:20190310T070000
END:DAYLIGHT
BEGIN:STANDARD
TZOFFSETFROM:-0400
TZOFFSETTO:-0500
TZNAME:EST
DTSTART:20191103T060000
END:STANDARD
END:VTIMEZONE
BEGIN:VEVENT
DTSTART;TZID=America/New_York:20190502T160000
DTEND;TZID=America/New_York:20190502T170000
DTSTAMP:20210526T135402
CREATED:20190423T175825Z
LAST-MODIFIED:20190516T130334Z
UID:1371-1556812800-1556816400@rieermc.ri.gov
SUMMARY:Rhode Island's Combined Heat and Power (CHP) Programs: An Informational & Public Comment Meeting
DESCRIPTION:[vc_row][vc_column][vc_column_text css=”.vc_custom_1556042148365{margin-bottom: 0px !important;}”]Have you participated in National Grid Rhode Island’s Combined Heat and Power (CHP) incentive Program? Are you interested in a CHP system for your facility? Please join us to share your experience or to learn more about CHP programs in Rhode Island. This public comment meeting will be held at the National Grid Energy Innovation Hub in Providence\, which offers interactive exhibits where Rhode Islanders can learn how they can take action towards creating a clean energy future.[/vc_column_text][/vc_column][/vc_row][vc_row][vc_column][vc_column_text]\nDocuments\n[/vc_column_text][vc_column_text css=”.vc_custom_1558011812450{margin-bottom: 0px !important;}”]\n\nMeeting Information and Agenda\nRhode Island’s Combined Heat & Power Programs: An Informational & Public Comment Meeting\nNational Grid Combined Heat & Power Incentive Programs\nFinancing Combined Heat & Power Building Upgrades\nMeeting Notes\n\n[/vc_column_text][/vc_column][/vc_row]\n
URL:https://rieermc.ri.gov/meeting/rhode-islands-combined-heat-and-power-chp-programs-an-informational-public-comment-meeting-2/
CATEGORIES:Public Meeting
END:VEVENT
END:VCALENDAR