BEGIN:VCALENDAR
VERSION:2.0
PRODID:-//RI Energy Efficiency &amp; Resource Management Council - ECPv4.9.11//NONSGML v1.0//EN
CALSCALE:GREGORIAN
METHOD:PUBLISH
X-WR-CALNAME:RI Energy Efficiency &amp; Resource Management Council
X-ORIGINAL-URL:https://rieermc.ri.gov
X-WR-CALDESC:Events for RI Energy Efficiency &amp; Resource Management Council
BEGIN:VTIMEZONE
TZID:America/New_York
BEGIN:DAYLIGHT
TZOFFSETFROM:-0500
TZOFFSETTO:-0400
TZNAME:EDT
DTSTART:20200308T070000
END:DAYLIGHT
BEGIN:STANDARD
TZOFFSETFROM:-0400
TZOFFSETTO:-0500
TZNAME:EST
DTSTART:20201101T060000
END:STANDARD
END:VTIMEZONE
BEGIN:VEVENT
DTSTART;TZID=America/New_York:20200917T153000
DTEND;TZID=America/New_York:20200917T173000
DTSTAMP:20210607T082132
CREATED:20191122T141641Z
LAST-MODIFIED:20200917T135613Z
UID:1646-1600356600-1600363800@rieermc.ri.gov
SUMMARY:EERMC Meeting - September 2020
DESCRIPTION:[vc_row][vc_column][vc_column_text css=”.vc_custom_1600129619945{margin-bottom: 0px !important;}”]The EERMC will convene for its monthly meeting on Thursday September 17\, 2020 from 3:30 – 5:30 PM. The meeting will be held virtually via Zoom. All members of the public are welcome to attend the Council meetingutilizing the information below. If you’d like to submit public comment to the Council\, you can do so through our Public Comment Page. \nPlease click this URL to join: https://zoom.us/j/96341446242 \nOr join by phone: Dial +1-646-558-8656 or 877-853-5247 (Toll Free)\nWebinar ID: 963 4144 6242 \nOther phone numbers\, including international options are available here:\nhttps://zoom.us/u/adAI1xIDDT[/vc_column_text][/vc_column][/vc_row][vc_row][vc_column][vc_column_text]\nDocuments\n[/vc_column_text][/vc_column][/vc_row][vc_row][vc_column][/vc_column][/vc_row][vc_row][vc_column][vc_column_text css=”.vc_custom_1600350871346{margin-bottom: 0px !important;}”]\n\nSeptember 17th\, 2020 EERMC Meeting Agenda\nDraft August Meeting Minutes\nRecommended August Vote Language\nNational Grid 2021 Annual Energy Efficiency Program Plan – First Draft\nNational Grid 2021 Draft Energy Efficiency Program Plan – Presentation\nConsultant Team Presentation – 2021 Draft Energy Efficiency Program Plan\nNational Grid 2020 Q2 Energy Efficiency Program Report\nNational Grid 2020 Q2 Energy Efficiency Program Results Presentation\nConsultant Team 2020 Q2 Energy Efficiency Program Results Presentation\nConsultant Team 2021 Annual and 2021-2023 Energy Efficiency Program Plan Cost Effectiveness Report\nConsultant Team 2021 Annual and 2021-2023 Energy Efficiency Program Plan Cost Effectiveness Report Presentation\nEERMC Review Committee’s Recommendation to the Council on Consultant Services Proposals\nGDS Associates – Consulting Services Proposal\nGDS Associates – Cost and ISBE Proposals\nOptimal Energy – Consulting Services Proposal\nOptimal Energy – Cost and ISBE Proposals\n\n\n[/vc_column_text][/vc_column][/vc_row][vc_row][vc_column][vc_column_text css=”.vc_custom_1600349991526{margin-bottom: 0px !important;}”]\nPublic Comments\n[/vc_column_text][/vc_column][/vc_row][vc_row][vc_column][vc_column_text css=”.vc_custom_1600350432211{margin-bottom: 0px !important;}”]\n\nRhode Island Infrastructure Bank – Public Comment on 2021 Energy Efficiency Program Plan\nSeth Handy Law – Public Comment on 2021-2023 Energy Efficiency Program Plan\nSeth Handy Law – Public Comment on System Reliability Procurement Plan\n\n[/vc_column_text][/vc_column][/vc_row][vc_row][vc_column][vc_column_text css=”.vc_custom_1600350971388{margin-bottom: 0px !important;}”]\nOther Materials\n[/vc_column_text][/vc_column][/vc_row][vc_row][vc_column][vc_column_text css=”.vc_custom_1600350909838{margin-bottom: 0px !important;}”]\n\nNational Grid 2021-2023 System Reliability Procurement Plan – Second Draft (Clean)\nNational Grid 2021-2023 System Reliability Procurement Plan – Second Draft (Redlined)\nEE and SRP Technical Working Group Update\nEERMC 2020 Virtual Public Forum – COVID-19 Crossroads: Achieving Equitable Health Outcomes through Energy Efficiency Event Flyer\n\n[/vc_column_text][/vc_column][/vc_row]\n
URL:https://rieermc.ri.gov/meeting/eermc-meeting-september-2020/
CATEGORIES:EERMC Meeting
END:VEVENT
END:VCALENDAR