BEGIN:VCALENDAR
VERSION:2.0
PRODID:-//RI Energy Efficiency &amp; Resource Management Council - ECPv4.9.11//NONSGML v1.0//EN
CALSCALE:GREGORIAN
METHOD:PUBLISH
X-WR-CALNAME:RI Energy Efficiency &amp; Resource Management Council
X-ORIGINAL-URL:https://rieermc.ri.gov
X-WR-CALDESC:Events for RI Energy Efficiency &amp; Resource Management Council
BEGIN:VTIMEZONE
TZID:America/New_York
BEGIN:DAYLIGHT
TZOFFSETFROM:-0500
TZOFFSETTO:-0400
TZNAME:EDT
DTSTART:20200308T070000
END:DAYLIGHT
BEGIN:STANDARD
TZOFFSETFROM:-0400
TZOFFSETTO:-0500
TZNAME:EST
DTSTART:20201101T060000
END:STANDARD
END:VTIMEZONE
BEGIN:VEVENT
DTSTART;TZID=America/New_York:20200924T130000
DTEND;TZID=America/New_York:20200924T150000
DTSTAMP:20210607T082150
CREATED:20200915T172612Z
LAST-MODIFIED:20210202T195256Z
UID:1996-1600952400-1600959600@rieermc.ri.gov
SUMMARY:2020 EERMC Virtual Public Forum - COVID-19 Crossroads: Achieving Equitable Health Outcomes through Energy Efficiency
DESCRIPTION:[vc_row][vc_column][vc_column_text css=”.vc_custom_1600190843817{margin-bottom: 0px !important;}”]To register for the free Public Forum\, click here. Questions should be directed to Kate Venturini at Kate@uri.edu.[/vc_column_text][/vc_column][/vc_row][vc_row][vc_column][mk_image src=”http://rieermc.ri.gov/wp-content/uploads/2020/09/sept.-event-flyer.jpg” image_size=”full” align=”center”][/vc_column][/vc_row][vc_row][vc_column][vc_column_text css=”.vc_custom_1612295516497{margin-bottom: 0px !important;}”]\nWebinar Recording\n[/vc_column_text][vc_column_text css=”.vc_custom_1612295543966{margin-bottom: 0px !important;}”]2020 EERMC Virtual Public Forum – COVID-19 Crossroads: Achieving Equitable Health Outcomes through Energy Efficiency[/vc_column_text][/vc_column][/vc_row]\n
URL:https://rieermc.ri.gov/meeting/2020-eermc-virtual-public-forum-covid-19-crossroads-achieving-equitable-health-outcomes-through-energy-efficiency/
LOCATION:Webex
CATEGORIES:Public Meeting
END:VEVENT
END:VCALENDAR