BEGIN:VCALENDAR
VERSION:2.0
PRODID:-//RI Energy Efficiency &amp; Resource Management Council - ECPv4.9.11//NONSGML v1.0//EN
CALSCALE:GREGORIAN
METHOD:PUBLISH
X-WR-CALNAME:RI Energy Efficiency &amp; Resource Management Council
X-ORIGINAL-URL:https://rieermc.ri.gov
X-WR-CALDESC:Events for RI Energy Efficiency &amp; Resource Management Council
BEGIN:VTIMEZONE
TZID:America/New_York
BEGIN:DAYLIGHT
TZOFFSETFROM:-0500
TZOFFSETTO:-0400
TZNAME:EDT
DTSTART:20210314T070000
END:DAYLIGHT
BEGIN:STANDARD
TZOFFSETFROM:-0400
TZOFFSETTO:-0500
TZNAME:EST
DTSTART:20211107T060000
END:STANDARD
END:VTIMEZONE
BEGIN:VEVENT
DTSTART;TZID=America/New_York:20210218T153000
DTEND;TZID=America/New_York:20210218T173000
DTSTAMP:20210522T201411
CREATED:20210114T220139Z
LAST-MODIFIED:20210218T202341Z
UID:2194-1613662200-1613669400@rieermc.ri.gov
SUMMARY:EERMC Meeting - February 2021
DESCRIPTION:[vc_row][vc_column][vc_column_text css=”.vc_custom_1613079282617{margin-bottom: 0px !important;}”]The EERMC will convene for its monthly meeting on Thursday February 18\, 2021 from 3:30 – 5:30 PM. The meeting will be held virtually via Zoom. All members of the public are welcome to attend the Council meeting. If you’d like to submit public comment to the Council\, you can do so during the meeting or through our Public Comment Page. \nPlease click this URL to join. https://us02web.zoom.us/j/84387573624 \nOr join by phone: Dial +1-646-558-8656 or 877-853-5247 (Toll Free)\nWebinar ID: 843 8757 3624 \nOther phone numbers\, including international options are available here:\nhttps://us02web.zoom.us/u/kcrp4IIx4k[/vc_column_text][/vc_column][/vc_row][vc_row][vc_column][vc_column_text]\nDocuments\n[/vc_column_text][vc_column_text css=”.vc_custom_1613679819608{margin-bottom: 0px !important;}”]\n\nFebruary 18\, 2021 EERMC Meeting Agenda\nFebruary 18\, 2021 EERMC Vote Language Recommendations\nJanuary 21\, 2021 EERMC Meeting Minutes – Draft\n2020 Legal Services Budget Memo\nPublic Education Funding Proposal – Farm Energy Fellow\nRecommended System Reliability Procurement (SRP) Comments to the Public Utilities Commission (PUC)\n2021 Energy Efficiency Performance Incentive Mechanism (PIM) Update from the Consultant Team\nPublic Utilities Commission’s 2/15/2021 Presentation on a Proposed Energy Efficiency Performance Incentive Mechanism\nPublic Utilities Commission’s 2/18/2021 Notice to Solicit Comments\nNational Grid’s 2020 Q4 Report\nNational Grid’s 2020 Q4 Presentation\nConsultant Team 2020 Q4 Presentation\n2022 EE and SRP Planning – Council Priorities from the Consultant Team\n\n[/vc_column_text][/vc_column][/vc_row][vc_row][vc_column][/vc_column][/vc_row]\n
URL:https://rieermc.ri.gov/meeting/eermc-meeting-february-2021/
CATEGORIES:EERMC Meeting
END:VEVENT
END:VCALENDAR