BEGIN:VCALENDAR
VERSION:2.0
PRODID:-//RI Energy Efficiency &amp; Resource Management Council - ECPv4.9.11//NONSGML v1.0//EN
CALSCALE:GREGORIAN
METHOD:PUBLISH
X-WR-CALNAME:RI Energy Efficiency &amp; Resource Management Council
X-ORIGINAL-URL:https://rieermc.ri.gov
X-WR-CALDESC:Events for RI Energy Efficiency &amp; Resource Management Council
BEGIN:VTIMEZONE
TZID:America/New_York
BEGIN:DAYLIGHT
TZOFFSETFROM:-0500
TZOFFSETTO:-0400
TZNAME:EDT
DTSTART:20210314T070000
END:DAYLIGHT
BEGIN:STANDARD
TZOFFSETFROM:-0400
TZOFFSETTO:-0500
TZNAME:EST
DTSTART:20211107T060000
END:STANDARD
END:VTIMEZONE
BEGIN:VEVENT
DTSTART;TZID=America/New_York:20210602T150000
DTEND;TZID=America/New_York:20210602T160000
DTSTAMP:20210522T220045
CREATED:20210506T151417Z
LAST-MODIFIED:20210506T152255Z
UID:2469-1622646000-1622649600@rieermc.ri.gov
SUMMARY:2021 Annual RI Combined Heat and Power (CHP) Stakeholder Meeting
DESCRIPTION:[vc_row][vc_column][vc_column_text css=”.vc_custom_1620314097290{margin-bottom: 0px !important;}”]Are you a combined heat and power (CHP) installer? Have you participated in National Grid Rhode Island’s CHP incentive program? Are you interested in a CHP system for your facility? \nPlease join us to share your experience and learn more about CHP programs in Rhode Island. Due to COVID-19\, this year’s meeting will be held virtually. \nGoToMeeting login information will be provided upon registration.[/vc_column_text][mk_button dimension=”flat” url=”https://forms.gle/KLpeXW4egbHfgCrs5″ target=”_blank”]Register Now[/mk_button][/vc_column][/vc_row][vc_row][vc_column][vc_column_text css=”.vc_custom_1620314572763{margin-bottom: 0px !important;}”]\nDocuments\n\nMeeting Agenda & Invite\n\n[/vc_column_text][/vc_column][/vc_row]\n
URL:https://rieermc.ri.gov/meeting/2021-annual-ri-combined-heat-and-power-chp-stakeholder-meeting/
CATEGORIES:Public Meeting
END:VEVENT
END:VCALENDAR