BEGIN:VCALENDAR
VERSION:2.0
PRODID:-//RI Energy Efficiency &amp; Resource Management Council - ECPv4.9.11//NONSGML v1.0//EN
CALSCALE:GREGORIAN
METHOD:PUBLISH
X-WR-CALNAME:RI Energy Efficiency &amp; Resource Management Council
X-ORIGINAL-URL:https://rieermc.ri.gov
X-WR-CALDESC:Events for RI Energy Efficiency &amp; Resource Management Council
BEGIN:VTIMEZONE
TZID:America/New_York
BEGIN:DAYLIGHT
TZOFFSETFROM:-0500
TZOFFSETTO:-0400
TZNAME:EDT
DTSTART:20210314T070000
END:DAYLIGHT
BEGIN:STANDARD
TZOFFSETFROM:-0400
TZOFFSETTO:-0500
TZNAME:EST
DTSTART:20211107T060000
END:STANDARD
END:VTIMEZONE
BEGIN:VEVENT
DTSTART;TZID=America/New_York:20210923T150000
DTEND;TZID=America/New_York:20210923T170000
DTSTAMP:20210918T003246
CREATED:20210114T221103Z
LAST-MODIFIED:20210917T225509Z
UID:2201-1632409200-1632416400@rieermc.ri.gov
SUMMARY:EERMC Meeting - September 2021
DESCRIPTION:[vc_row][vc_column][vc_column_text css=”.vc_custom_1629553967734{margin-bottom: 0px !important;}”]The EERMC will convene for its monthly meeting on Thursday September 23\, 2021 from 3:00 – 5:00 PM\, location TBA. \nAll members of the public are welcome to attend the Council meeting. If you’d like to submit public comment to the Council\, you can do so during the meeting or through our Public Comment Page. \nIf communication assistance (readers/interpreters/captioners) is needed\, or any other accommodation to ensure equal participation\, please call the Rhode Island Office of Energy Resources at 401-574-9100 at least three (3) business days prior to the hearing so arrangements can be made to provide such assistance. \n[/vc_column_text][/vc_column][/vc_row][vc_row][vc_column][vc_column_text css=”.vc_custom_1631918849889{margin-bottom: 0px !important;}”]\nDocuments\n\nSeptember 23\, 2021 EERMC Meeting Agenda\nSeptember 16\, 2021 EERMC Special Meeting Minutes – Draft\nAugust 19\, 2021 EERMC Meeting Minutes – Draft\nNational Grid 2022 EE Plan Final Draft Presentation\nConsultant Team 2022 EE Plan Final Draft Presentation\nConsultant Team 2022 EE Plan Final Draft Memo\nConsultant Team 2022 EE Plan Cost-Effectiveness Report Presentation\nConsultant Team 2022 EE Plan Cost-Effectiveness Report Presentation\n\n2022 Rhode Island Annual Energy Efficiency Plan – Final Draft\n\n2022 EE Plan Final Draft – Main Text\n2022 EE Plan Final Draft – Attachment 1 – Resi & IES\n2022 EE Plan Final Draft – Attachment 2 – C&I\n2022 EE Plan Final Draft – Attachment 3 – EM&V\n2022 EE Plan Final Draft – Attachment 4 – RI Test\n2022 EE Plan Final Draft – Attachment 5 – Electric Tables\n2022 EE Plan Final Draft – Attachment 6 – Gas Tables\n2022 EE Plan First Draft – Attachment 7 – Bill Rate Impacts\n2022 EE Plan Final Draft – Attachment 8 – Pilots\, Demos\, Assessments\n2022 EE Plan Final Draft – Attachment 9 – Cross Program Summary\n2022 EE Plan Final Draft – Attachment 10 – Definitions\n2022 EE Plan Final Draft – Attachment 11 – 2021 Rhode Island Energy Efficiency Equity Working Group Report\n\n[/vc_column_text][/vc_column][/vc_row]\n
URL:https://rieermc.ri.gov/meeting/eermc-meeting-september-2021/
CATEGORIES:EERMC Meeting
END:VEVENT
END:VCALENDAR