BEGIN:VCALENDAR
VERSION:2.0
PRODID:-//RI Energy Efficiency &amp; Resource Management Council - ECPv4.9.11//NONSGML v1.0//EN
CALSCALE:GREGORIAN
METHOD:PUBLISH
X-WR-CALNAME:RI Energy Efficiency &amp; Resource Management Council
X-ORIGINAL-URL:https://rieermc.ri.gov
X-WR-CALDESC:Events for RI Energy Efficiency &amp; Resource Management Council
BEGIN:VTIMEZONE
TZID:America/New_York
BEGIN:DAYLIGHT
TZOFFSETFROM:-0500
TZOFFSETTO:-0400
TZNAME:EDT
DTSTART:20210314T070000
END:DAYLIGHT
BEGIN:STANDARD
TZOFFSETFROM:-0400
TZOFFSETTO:-0500
TZNAME:EST
DTSTART:20211107T060000
END:STANDARD
END:VTIMEZONE
BEGIN:VEVENT
DTSTART;TZID=America/New_York:20210422T153000
DTEND;TZID=America/New_York:20210422T173000
DTSTAMP:20210421T030308
CREATED:20210114T220353Z
LAST-MODIFIED:20210420T195228Z
UID:2196-1619105400-1619112600@rieermc.ri.gov
SUMMARY:EERMC Meeting - April 2021
DESCRIPTION:[vc_row][vc_column][vc_column_text css=”.vc_custom_1618612971591{margin-bottom: 0px !important;}”]The EERMC will convene for its monthly meeting on Thursday April 22\, 2021 from 3:30 – 5:30 PM. The meeting will be held virtually via Zoom. All members of the public are welcome to attend the Council meeting. If you’d like to submit public comment to the Council\, you can do so during the meeting or through our Public Comment Page. \nPlease click this URL to join. https://us02web.zoom.us/j/88645297148 \nOr join by phone: Dial +1-646-558-8656 or 877-853-5247 (Toll Free) Webinar ID: 886 4529 7148 \nOther phone numbers\, including international options are available here: https://us02web.zoom.us/u/kc5AGWQU2q[/vc_column_text][/vc_column][/vc_row][vc_row][vc_column][vc_column_text css=”.vc_custom_1618948341245{margin-bottom: 0px !important;}”]\nDocuments\n\nApril 22\, 2021 EERMC Meeting Agenda\nMarch 25\, 2021 Executive Committee Meeting Minutes – Draft \nMarch 18\, 2021 Full Council Meeting Minutes – Draft \nEERMC Priorities on the 2022 EE Plan – Consultant Team Memo\nEERMC Priorities on the 2022 EE Plan – Consultant Team Presentation\nEERMC 2021 Annual Report to the General Assembly – Draft\nEERMC Member Retreat Update – Consultant Team Memo\n100% Renewable Electricity – OER Presentation\n\nRFP Documents\nEducational Videos RFP \n\nEERMC 2021 Educational Videos Production RFP\nDeft Film Technical\, Cost & ISBE Proposals (Video RFP)\nDuffy & Shanley Technical\, Cost & ISBE Proposals (Video RFP)\nRDW Technical Proposal Only (Video RFP)\nKSA Technical\, Cost & ISBE Proposals (Video RFP)\nVideo Proposal Selection Recommendation from the Council’s RFP Review Committee\n\nPublic Events & Outreach RFP \n\nEERMC 2021 Public Events & Outreach RFP\nDuffy & Shanley Technical\, Cost & ISBE Proposals (Event RFP)\nKSA Technical Proposal Only (Event RFP)\nURI Cooperative Extension Technical\, Cost & ISBE Proposals (Event RFP)\nPublic Event Proposal Selection Recommendation from the Council’s RFP Review Committee\n\nOther Materials\n\nEERMC Website Updates – Consultant Team Memo\nEE and SRP Technical Working Group (TWG) Meetings Update – Consultant Team Memo\nQuarter 1 EERMC Budget Summary\nConsultant Team Quarter 1 Summary of Work\nCurrent Council Bylaws\nNational Grid Response to Council Member Teichert’s Question\n\n[/vc_column_text][/vc_column][/vc_row]\n
URL:https://rieermc.ri.gov/meeting/eermc-meeting-april-2021/
CATEGORIES:EERMC Meeting
END:VEVENT
BEGIN:VEVENT
DTSTART;TZID=America/New_York:20210520T153000
DTEND;TZID=America/New_York:20210520T173000
DTSTAMP:20210421T030308
CREATED:20210114T220506Z
LAST-MODIFIED:20210114T220810Z
UID:2197-1621524600-1621531800@rieermc.ri.gov
SUMMARY:EERMC Meeting - May 2021
DESCRIPTION:[vc_row][vc_column][vc_column_text css=”.vc_custom_1610661890186{margin-bottom: 0px !important;}”]The EERMC will convene for its monthly meeting on Thursday May 20\, 2021 from 3:30 – 5:30 PM. The meeting will be held virtually via Zoom. All members of the public are welcome to attend the Council meeting. If you’d like to submit public comment to the Council\, you can do so during the meeting or through our Public Comment Page.[/vc_column_text][/vc_column][/vc_row][vc_row][vc_column][vc_column_text]\nDocuments\n[/vc_column_text][/vc_column][/vc_row]\n
URL:https://rieermc.ri.gov/meeting/eermc-meeting-may-2021/
CATEGORIES:EERMC Meeting
END:VEVENT
BEGIN:VEVENT
DTSTART;TZID=America/New_York:20210617T153000
DTEND;TZID=America/New_York:20210617T173000
DTSTAMP:20210421T030308
CREATED:20210114T220626Z
LAST-MODIFIED:20210114T220626Z
UID:2198-1623943800-1623951000@rieermc.ri.gov
SUMMARY:EERMC Meeting - June 2021
DESCRIPTION:[vc_row][vc_column][vc_column_text css=”.vc_custom_1610661978347{margin-bottom: 0px !important;}”]The EERMC will convene for its monthly meeting on Thursday June 17\, 2021 from 3:30 – 5:30 PM. The meeting will be held virtually via Zoom. All members of the public are welcome to attend the Council meeting. If you’d like to submit public comment to the Council\, you can do so during the meeting or through our Public Comment Page.[/vc_column_text][/vc_column][/vc_row][vc_row][vc_column][vc_column_text]\nDocuments\n[/vc_column_text][/vc_column][/vc_row]\n
URL:https://rieermc.ri.gov/meeting/eermc-meeting-june-2021/
CATEGORIES:EERMC Meeting
END:VEVENT
BEGIN:VEVENT
DTSTART;TZID=America/New_York:20210729T153000
DTEND;TZID=America/New_York:20210729T173000
DTSTAMP:20210421T030308
CREATED:20210114T220908Z
LAST-MODIFIED:20210114T220908Z
UID:2199-1627572600-1627579800@rieermc.ri.gov
SUMMARY:EERMC Meeting - July 2021
DESCRIPTION:[vc_row][vc_column][vc_column_text css=”.vc_custom_1610662147216{margin-bottom: 0px !important;}”]The EERMC will convene for its monthly meeting on Thursday July 29\, 2021 from 3:30 – 5:30 PM. The meeting will be held virtually via Zoom. All members of the public are welcome to attend the Council meeting. If you’d like to submit public comment to the Council\, you can do so during the meeting or through our Public Comment Page.[/vc_column_text][/vc_column][/vc_row][vc_row][vc_column][vc_column_text]\nDocuments\n[/vc_column_text][/vc_column][/vc_row]\n
URL:https://rieermc.ri.gov/meeting/eermc-meeting-july-2021/
CATEGORIES:EERMC Meeting
END:VEVENT
BEGIN:VEVENT
DTSTART;TZID=America/New_York:20210819T153000
DTEND;TZID=America/New_York:20210819T173000
DTSTAMP:20210421T030308
CREATED:20210114T221006Z
LAST-MODIFIED:20210114T221006Z
UID:2200-1629387000-1629394200@rieermc.ri.gov
SUMMARY:EERMC Meeting - August 2021
DESCRIPTION:[vc_row][vc_column][vc_column_text css=”.vc_custom_1610662197402{margin-bottom: 0px !important;}”]The EERMC will convene for its monthly meeting on Thursday August 19\, 2021 from 3:30 – 5:30 PM. The meeting will be held virtually via Zoom. All members of the public are welcome to attend the Council meeting. If you’d like to submit public comment to the Council\, you can do so during the meeting or through our Public Comment Page.[/vc_column_text][/vc_column][/vc_row][vc_row][vc_column][vc_column_text]\nDocuments\n[/vc_column_text][/vc_column][/vc_row]\n
URL:https://rieermc.ri.gov/meeting/eermc-meeting-august-2021/
CATEGORIES:EERMC Meeting
END:VEVENT
BEGIN:VEVENT
DTSTART;TZID=America/New_York:20210923T153000
DTEND;TZID=America/New_York:20210923T173000
DTSTAMP:20210421T030308
CREATED:20210114T221103Z
LAST-MODIFIED:20210114T221103Z
UID:2201-1632411000-1632418200@rieermc.ri.gov
SUMMARY:EERMC Meeting - September 2021
DESCRIPTION:[vc_row][vc_column][vc_column_text css=”.vc_custom_1610662258629{margin-bottom: 0px !important;}”]The EERMC will convene for its monthly meeting on Thursday September 23\, 2021 from 3:30 – 5:30 PM. The meeting will be held virtually via Zoom. All members of the public are welcome to attend the Council meeting. If you’d like to submit public comment to the Council\, you can do so during the meeting or through our Public Comment Page.[/vc_column_text][/vc_column][/vc_row][vc_row][vc_column][vc_column_text]\nDocuments\n[/vc_column_text][/vc_column][/vc_row]\n
URL:https://rieermc.ri.gov/meeting/eermc-meeting-september-2021/
CATEGORIES:EERMC Meeting
END:VEVENT
BEGIN:VEVENT
DTSTART;TZID=America/New_York:20211021T153000
DTEND;TZID=America/New_York:20211021T173000
DTSTAMP:20210421T030308
CREATED:20210114T221150Z
LAST-MODIFIED:20210114T221150Z
UID:2202-1634830200-1634837400@rieermc.ri.gov
SUMMARY:EERMC Meeting - October 2021
DESCRIPTION:[vc_row][vc_column][vc_column_text css=”.vc_custom_1610662307598{margin-bottom: 0px !important;}”]The EERMC will convene for its monthly meeting on Thursday October 21\, 2021 from 3:30 – 5:30 PM. The meeting will be held virtually via Zoom. All members of the public are welcome to attend the Council meeting. If you’d like to submit public comment to the Council\, you can do so during the meeting or through our Public Comment Page.[/vc_column_text][/vc_column][/vc_row][vc_row][vc_column][vc_column_text]\nDocuments\n[/vc_column_text][/vc_column][/vc_row]\n
URL:https://rieermc.ri.gov/meeting/eermc-meeting-october-2021/
CATEGORIES:EERMC Meeting
END:VEVENT
BEGIN:VEVENT
DTSTART;TZID=America/New_York:20211118T153000
DTEND;TZID=America/New_York:20211118T173000
DTSTAMP:20210421T030308
CREATED:20210114T221234Z
LAST-MODIFIED:20210114T221354Z
UID:2203-1637249400-1637256600@rieermc.ri.gov
SUMMARY:EERMC Meeting - November 2021
DESCRIPTION:[vc_row][vc_column][vc_column_text css=”.vc_custom_1610662352124{margin-bottom: 0px !important;}”]The EERMC will convene for its monthly meeting on Thursday November 18\, 2021 from 3:30 – 5:30 PM. The meeting will be held virtually via Zoom. All members of the public are welcome to attend the Council meeting. If you’d like to submit public comment to the Council\, you can do so during the meeting or through our Public Comment Page.[/vc_column_text][/vc_column][/vc_row][vc_row][vc_column][vc_column_text]\nDocuments\n[/vc_column_text][/vc_column][/vc_row]\n
URL:https://rieermc.ri.gov/meeting/eermc-meeting-november-18/
CATEGORIES:EERMC Meeting
END:VEVENT
BEGIN:VEVENT
DTSTART;TZID=America/New_York:20211209T153000
DTEND;TZID=America/New_York:20211209T173000
DTSTAMP:20210421T030308
CREATED:20210114T221318Z
LAST-MODIFIED:20210114T221318Z
UID:2204-1639063800-1639071000@rieermc.ri.gov
SUMMARY:EERMC Meeting - December 2021
DESCRIPTION:[vc_row][vc_column][vc_column_text css=”.vc_custom_1610662397230{margin-bottom: 0px !important;}”]The EERMC will convene for its monthly meeting on Thursday December 9\, 2021 from 3:30 – 5:30 PM. The meeting will be held virtually via Zoom. All members of the public are welcome to attend the Council meeting. If you’d like to submit public comment to the Council\, you can do so during the meeting or through our Public Comment Page.[/vc_column_text][/vc_column][/vc_row][vc_row][vc_column][vc_column_text]\nDocuments\n[/vc_column_text][/vc_column][/vc_row]\n
URL:https://rieermc.ri.gov/meeting/eermc-meeting-december-2021/
CATEGORIES:EERMC Meeting
END:VEVENT
END:VCALENDAR